BEGIN:VCALENDAR
VERSION:2.0
PRODID:-//Electric Vehicle Council of Ottawa - ECPv6.15.20//NONSGML v1.0//EN
CALSCALE:GREGORIAN
METHOD:PUBLISH
X-ORIGINAL-URL:https://evco.ca
X-WR-CALDESC:Events for Electric Vehicle Council of Ottawa
REFRESH-INTERVAL;VALUE=DURATION:PT1H
X-Robots-Tag:noindex
X-PUBLISHED-TTL:PT1H
BEGIN:VTIMEZONE
TZID:America/New_York
BEGIN:DAYLIGHT
TZOFFSETFROM:-0500
TZOFFSETTO:-0400
TZNAME:EDT
DTSTART:20230312T070000
END:DAYLIGHT
BEGIN:STANDARD
TZOFFSETFROM:-0400
TZOFFSETTO:-0500
TZNAME:EST
DTSTART:20231105T060000
END:STANDARD
BEGIN:DAYLIGHT
TZOFFSETFROM:-0500
TZOFFSETTO:-0400
TZNAME:EDT
DTSTART:20240310T070000
END:DAYLIGHT
BEGIN:STANDARD
TZOFFSETFROM:-0400
TZOFFSETTO:-0500
TZNAME:EST
DTSTART:20241103T060000
END:STANDARD
BEGIN:DAYLIGHT
TZOFFSETFROM:-0500
TZOFFSETTO:-0400
TZNAME:EDT
DTSTART:20250309T070000
END:DAYLIGHT
BEGIN:STANDARD
TZOFFSETFROM:-0400
TZOFFSETTO:-0500
TZNAME:EST
DTSTART:20251102T060000
END:STANDARD
END:VTIMEZONE
BEGIN:VEVENT
DTSTART;TZID=America/New_York:20240424T140000
DTEND;TZID=America/New_York:20240424T170000
DTSTAMP:20260420T044502
CREATED:20220824T132407Z
LAST-MODIFIED:20230217T133303Z
UID:1221-1713967200-1713978000@evco.ca
SUMMARY:National Nature Event
DESCRIPTION:Cras Ornare Arcu\nPellentesque iaculis\, augue et vestibulum feugiat\, turpis nisi sagittis nisi\, id sodales nisl nisl sed velit. Pellentesque pretium efficitur dui\, et volutpat sapien. diam arcu. Vestibulum eget lacus tristique\, auctor elit nec\, lacinia neque. Proin hendrerit neque nec enim gravida scelerisque. Sed id iaculis dolor\, at malesuada Donec enim massa\, venenatis vitae placerat a\, cursus vel mauris. Nullam ornare leo sed blandit rhoncus.		 \nPlatea Dictumst\nPellentesque iaculis\, augue et vestibulum feugiat\, turpis nisi sagittis nisi\, id sodales nisl nisl sed velit. Pellentesque pretium efficitur dui\, et volutpat sapien. diam arcu. Vestibulum eget lacus tristique\, auctor elit nec\, lacinia neque. Proin hendrerit neque nec enim gravida scelerisque.\n		https://www.youtube.com/watch?v=XHOmBV4js_E \nPellentesque iaculis\, augue et vestibulum feugiat\, turpis nisi sagittis nisi\, id sodales nisl nisl sed velit. Pellentesque pretium efficitur dui\, et volutpat sapien. diam arcu.
URL:https://evco.ca/event/national-nature-event/
LOCATION:The Ebert Hall\, 452 W Madison St\, Chicago\, Illinois\, United States
CATEGORIES:Generated
ATTACH;FMTTYPE=image/jpeg:https://evco.ca/wp-content/uploads/2022/08/event-5.jpg
ORGANIZER;CN="Francesco Wuckert-Morar":MAILTO:francesco@wuckert-morar-qa.evnt.is
END:VEVENT
BEGIN:VEVENT
DTSTART;TZID=America/New_York:20240424T140000
DTEND;TZID=America/New_York:20240424T170000
DTSTAMP:20260420T044502
CREATED:20221011T172632Z
LAST-MODIFIED:20230217T133200Z
UID:1915-1713967200-1713978000@evco.ca
SUMMARY:Environmental Summer Event
DESCRIPTION:Morbi Tincidunt Augue\nPellentesque iaculis\, augue et vestibulum feugiat\, turpis nisi sagittis nisi\, id sodales nisl nisl sed velit. Pellentesque pretium efficitur dui\, et volutpat sapien. diam arcu. Vestibulum eget lacus tristique\, auctor elit nec\, lacinia neque. Proin hendrerit neque nec enim gravida scelerisque. Sed id iaculis dolor\, at malesuada Donec enim massa\, venenatis vitae placerat a\, cursus vel mauris. Nullam ornare leo sed blandit rhoncus.		 \nPlacerat Vestibulum\nPellentesque iaculis\, augue et vestibulum feugiat\, turpis nisi sagittis nisi\, id sodales nisl nisl sed velit. Pellentesque pretium efficitur dui\, et volutpat sapien. diam arcu. Vestibulum eget lacus tristique\, auctor elit nec\, lacinia neque. Proin hendrerit neque nec enim gravida scelerisque.\n		https://www.youtube.com/watch?v=XHOmBV4js_E \nPellentesque iaculis\, augue et vestibulum feugiat\, turpis nisi sagittis nisi\, id sodales nisl nisl sed velit. Pellentesque pretium efficitur dui\, et volutpat sapien. diam arcu.
URL:https://evco.ca/event/environmental-summer-event/
LOCATION:The Ebert Hall\, 452 W Madison St\, Chicago\, Illinois\, United States
CATEGORIES:Generated
ATTACH;FMTTYPE=image/jpeg:https://evco.ca/wp-content/uploads/2022/10/event-6.jpg
ORGANIZER;CN="Francesco Wuckert-Morar":MAILTO:francesco@wuckert-morar-qa.evnt.is
END:VEVENT
END:VCALENDAR