BEGIN:VCALENDAR
VERSION:2.0
PRODID:-//Electric Vehicle Council of Ottawa - ECPv6.15.20//NONSGML v1.0//EN
CALSCALE:GREGORIAN
METHOD:PUBLISH
X-WR-CALNAME:Electric Vehicle Council of Ottawa
X-ORIGINAL-URL:https://evco.ca
X-WR-CALDESC:Events for Electric Vehicle Council of Ottawa
REFRESH-INTERVAL;VALUE=DURATION:PT1H
X-Robots-Tag:noindex
X-PUBLISHED-TTL:PT1H
BEGIN:VTIMEZONE
TZID:America/Toronto
BEGIN:DAYLIGHT
TZOFFSETFROM:-0500
TZOFFSETTO:-0400
TZNAME:EDT
DTSTART:20230312T070000
END:DAYLIGHT
BEGIN:STANDARD
TZOFFSETFROM:-0400
TZOFFSETTO:-0500
TZNAME:EST
DTSTART:20231105T060000
END:STANDARD
BEGIN:DAYLIGHT
TZOFFSETFROM:-0500
TZOFFSETTO:-0400
TZNAME:EDT
DTSTART:20240310T070000
END:DAYLIGHT
BEGIN:STANDARD
TZOFFSETFROM:-0400
TZOFFSETTO:-0500
TZNAME:EST
DTSTART:20241103T060000
END:STANDARD
BEGIN:DAYLIGHT
TZOFFSETFROM:-0500
TZOFFSETTO:-0400
TZNAME:EDT
DTSTART:20250309T070000
END:DAYLIGHT
BEGIN:STANDARD
TZOFFSETFROM:-0400
TZOFFSETTO:-0500
TZNAME:EST
DTSTART:20251102T060000
END:STANDARD
END:VTIMEZONE
BEGIN:VEVENT
DTSTART;TZID=America/Toronto:20240608T090000
DTEND;TZID=America/Toronto:20240608T130000
DTSTAMP:20260420T080120
CREATED:20240528T135528Z
LAST-MODIFIED:20240528T135528Z
UID:3439-1717837200-1717851600@evco.ca
SUMMARY:EV Expérience VÉ - Climate Network Lanark - Almonte - Saturday\, June 8
DESCRIPTION:Come join us with Climate Network Lanark at the Mississippi Mills Public Library Almonte Branch for EV test drives and rides!
URL:https://evco.ca/event/ev-experience-ve-climate-network-lanark-almonte-saturday-june-8/
LOCATION:Go Green
ATTACH;FMTTYPE=image/png:https://evco.ca/wp-content/uploads/2022/06/Twitter-ENG.png
END:VEVENT
END:VCALENDAR