BEGIN:VCALENDAR
VERSION:2.0
PRODID:-//Electric Vehicle Council of Ottawa - ECPv6.15.20//NONSGML v1.0//EN
CALSCALE:GREGORIAN
METHOD:PUBLISH
X-WR-CALNAME:Electric Vehicle Council of Ottawa
X-ORIGINAL-URL:https://evco.ca
X-WR-CALDESC:Events for Electric Vehicle Council of Ottawa
REFRESH-INTERVAL;VALUE=DURATION:PT1H
X-Robots-Tag:noindex
X-PUBLISHED-TTL:PT1H
BEGIN:VTIMEZONE
TZID:America/Toronto
BEGIN:DAYLIGHT
TZOFFSETFROM:-0500
TZOFFSETTO:-0400
TZNAME:EDT
DTSTART:20230312T070000
END:DAYLIGHT
BEGIN:STANDARD
TZOFFSETFROM:-0400
TZOFFSETTO:-0500
TZNAME:EST
DTSTART:20231105T060000
END:STANDARD
BEGIN:DAYLIGHT
TZOFFSETFROM:-0500
TZOFFSETTO:-0400
TZNAME:EDT
DTSTART:20240310T070000
END:DAYLIGHT
BEGIN:STANDARD
TZOFFSETFROM:-0400
TZOFFSETTO:-0500
TZNAME:EST
DTSTART:20241103T060000
END:STANDARD
BEGIN:DAYLIGHT
TZOFFSETFROM:-0500
TZOFFSETTO:-0400
TZNAME:EDT
DTSTART:20250309T070000
END:DAYLIGHT
BEGIN:STANDARD
TZOFFSETFROM:-0400
TZOFFSETTO:-0500
TZNAME:EST
DTSTART:20251102T060000
END:STANDARD
END:VTIMEZONE
BEGIN:VEVENT
DTSTART;TZID=America/Toronto:20240624T193000
DTEND;TZID=America/Toronto:20240624T220000
DTSTAMP:20260420T080120
CREATED:20240607T230529Z
LAST-MODIFIED:20240607T230529Z
UID:3440-1719257400-1719266400@evco.ca
SUMMARY:June Monthly Meeting - In Person and Virtual
DESCRIPTION:Hope you can make it to our monthly meeting.  We strongly encourage you to join us in person. This month we are at a NEW LOCATION because of a scheduling conflict – see below.  For those who can’t get there in person\, you will still have the option to reach us on-line.  Recordings of our past meeting can be found at EVCO – YouTube \n\n\n\n Agenda: \n\n\n\n – Past and Future events \n\n\n\n – Troubleshooting Charging \n\n\n\n – Building a straw house \n\n\n\n – News  \n\n\n\n – Roundtable \n\n\n\n In person: \n\n\n\n     This month we are at a NEW LOCATION because of a scheduling conflict:   \n\n\n\n          Blackburn Hamlet Community Hall \n\n\n\n          190 Glen Park Dr\, GLOUCESTER \n\n\n\n          (Beside the Lois Kemp Arena (otherwise known as the Blackburn arena)) \n\n\n\n On-line: \n\n\n\n          Join the meeting now \n\n\n\n          Meeting ID: 231 220 746 409 \n\n\n\n          Passcode: crRdUv \n\n\n\n     
URL:https://evco.ca/event/june-monthly-meeting-in-person-and-virtual/
LOCATION:ON
END:VEVENT
END:VCALENDAR