BEGIN:VCALENDAR
VERSION:2.0
PRODID:-//Electric Vehicle Council of Ottawa - ECPv6.15.20//NONSGML v1.0//EN
CALSCALE:GREGORIAN
METHOD:PUBLISH
X-WR-CALNAME:Electric Vehicle Council of Ottawa
X-ORIGINAL-URL:https://evco.ca
X-WR-CALDESC:Events for Electric Vehicle Council of Ottawa
REFRESH-INTERVAL;VALUE=DURATION:PT1H
X-Robots-Tag:noindex
X-PUBLISHED-TTL:PT1H
BEGIN:VTIMEZONE
TZID:America/Toronto
BEGIN:DAYLIGHT
TZOFFSETFROM:-0500
TZOFFSETTO:-0400
TZNAME:EDT
DTSTART:20230312T070000
END:DAYLIGHT
BEGIN:STANDARD
TZOFFSETFROM:-0400
TZOFFSETTO:-0500
TZNAME:EST
DTSTART:20231105T060000
END:STANDARD
BEGIN:DAYLIGHT
TZOFFSETFROM:-0500
TZOFFSETTO:-0400
TZNAME:EDT
DTSTART:20240310T070000
END:DAYLIGHT
BEGIN:STANDARD
TZOFFSETFROM:-0400
TZOFFSETTO:-0500
TZNAME:EST
DTSTART:20241103T060000
END:STANDARD
BEGIN:DAYLIGHT
TZOFFSETFROM:-0500
TZOFFSETTO:-0400
TZNAME:EDT
DTSTART:20250309T070000
END:DAYLIGHT
BEGIN:STANDARD
TZOFFSETFROM:-0400
TZOFFSETTO:-0500
TZNAME:EST
DTSTART:20251102T060000
END:STANDARD
END:VTIMEZONE
BEGIN:VEVENT
DTSTART;TZID=America/Toronto:20240810T083000
DTEND;TZID=America/Toronto:20240810T140000
DTSTAMP:20260419T170946
CREATED:20240801T200707Z
LAST-MODIFIED:20240801T200707Z
UID:3448-1723278600-1723298400@evco.ca
SUMMARY:EVCO Poker Run
DESCRIPTION:This event is for members of EVCO and l’AVEQ (le français suivra). \n\n\n\nIf you are an EVCO or AVEQ member\, please join us for a Poker Run. You must use an EV to be eligible to participate. This event will give us an opportunity to have some fun and see some of the local scenery along the Ottawa River on the Ontario and the Québec sides of the border. \n\n\n\nStart location: Electrify Canada chargers\, 330 Coventry Road\, Ottawa \n\n\n\nEnd location: Flo Level 2 charging station\, Canadian Aviation and Space Museum\, 11 Aviation Parkway\, Ottawa \n\n\n\nWhen you arrive at Coventry Road\, you will get your first card and a map of the circuit with instructions. Once you have completed the circuit and collected 5 cards\, the highest hand wins a prize! \n\n\n\nThe circuit is under 250km and should take 4-4.5 hours to drive.  You can expect to arrive at the Canadian Aviation and Space Museum around 1PM.  Note that everyone is invited to join us for lunch at a location that will be communicated to you on the day of the event. \n\n\n\nTo register\, please send an e-mail to info@evco.ca indicating: \n\n\n\n\n– Your vehicle\n\n\n\n– Number of people that will be in the vehicle\n\n\n\n– Whether you will join us for lunch or not.\n\n\n\n\nPlease ensure you are on time as we will be leaving at 8:30AM sharp! \n\n\n\nIf you need to charge at Electrify Canada on Coventry\, please take this into account when planning your arrival. \n\n\n\n——————————————— \n\n\n\nCet évènement est pour les membres d’EVCO et de l’AVEQ. \n\n\n\nSi vous êtes membre EVCO ou de l’AVEQ\, rejoignez-nous pour une course de poker. Vous devez utiliser un véhicule électrique pour être admissible à participer. Cet événement nous donnera l’occasion de nous amuser et de voir certains des paysages locaux le long de la rivière des Outaouais\, du côté de l’Ontario et du Québec de la frontière. \n\n\n\nDépart: Bornes de recharge Electrify Canada\, 330 Chemin Coventry\, Ottawa \n\n\n\nArrivée: Bornes de recharge Flo au Musée de l’aviation et de l’espace du Canada\, 11 Promenade de l’Aviation\, Ottawa \n\n\n\nLorsque vous arriverez à Coventry\, vous recevrez votre première carte et une carte du circuit avec les instructions. Une fois que vous avez terminé le circuit et collecté 5 cartes\, la main la plus élevée remporte un prix! \n\n\n\nLe circuit fait moins de 250 km et devrait prendre de 4 à 4\,5 heures de route. Vous pouvez vous attendre à arriver au Musée de l’aviation et de l’espace du Canada vers 13h. Notez que tous sont invités à se joindre à nous pour le dîner à un endroit qui vous sera communiqué le jour de l’événement. \n\n\n\nPour vous inscrire\, veuillez envoyer un courriel à info@evco.ca avec les renseignements suivants: \n\n\n\n\n– Votre véhicule – Modèle et année\n\n\n\n– Nombre de personnes qui seront dans le véhicule\n\n\n\n– Si vous allez vous joindre à nous pour le dîner ou non.\n\n\n\n\nAssurez-vous d’être à l’heure car nous partirons à 8h30 précises! \n\n\n\nSi vous avez besoin de recharger chez Electrify Canada sur Coventry\, veuillez en tenir compte lors de la planification de votre arrivée.
URL:https://evco.ca/event/evco-poker-run/
LOCATION:Canada Aviation and Space Museum\, 11 Aviation Pkwy\, Ottawa\, Ontario\, K1K 2X5\, Canada
END:VEVENT
END:VCALENDAR