BEGIN:VCALENDAR
VERSION:2.0
PRODID:-//Electric Vehicle Council of Ottawa - ECPv6.15.20//NONSGML v1.0//EN
CALSCALE:GREGORIAN
METHOD:PUBLISH
X-ORIGINAL-URL:https://evco.ca
X-WR-CALDESC:Events for Electric Vehicle Council of Ottawa
REFRESH-INTERVAL;VALUE=DURATION:PT1H
X-Robots-Tag:noindex
X-PUBLISHED-TTL:PT1H
BEGIN:VTIMEZONE
TZID:America/Toronto
BEGIN:DAYLIGHT
TZOFFSETFROM:-0500
TZOFFSETTO:-0400
TZNAME:EDT
DTSTART:20230312T070000
END:DAYLIGHT
BEGIN:STANDARD
TZOFFSETFROM:-0400
TZOFFSETTO:-0500
TZNAME:EST
DTSTART:20231105T060000
END:STANDARD
BEGIN:DAYLIGHT
TZOFFSETFROM:-0500
TZOFFSETTO:-0400
TZNAME:EDT
DTSTART:20240310T070000
END:DAYLIGHT
BEGIN:STANDARD
TZOFFSETFROM:-0400
TZOFFSETTO:-0500
TZNAME:EST
DTSTART:20241103T060000
END:STANDARD
BEGIN:DAYLIGHT
TZOFFSETFROM:-0500
TZOFFSETTO:-0400
TZNAME:EDT
DTSTART:20250309T070000
END:DAYLIGHT
BEGIN:STANDARD
TZOFFSETFROM:-0400
TZOFFSETTO:-0500
TZNAME:EST
DTSTART:20251102T060000
END:STANDARD
END:VTIMEZONE
BEGIN:VEVENT
DTSTART;TZID=America/Toronto:20240826T193000
DTEND;TZID=America/Toronto:20240826T220000
DTSTAMP:20260419T182631
CREATED:20240801T194443Z
LAST-MODIFIED:20240801T194443Z
UID:3447-1724700600-1724709600@evco.ca
SUMMARY:August Monthly Meeting - In Person and Virtual
DESCRIPTION:Hope you can make it to our monthly meeting.  We strongly encourage you to join us in person. For those who can’t get there in person\, you will still have the option to reach us on-line.  Recordings of our past meeting can be found at EVCO – YouTube \n\n\n\n Agenda: \n\n\n\n – Past and Future events \n\n\n\n – EVs in Japan \n\n\n\n – Update on OC Transpo and e-buses \n\n\n\n – Climate Change – How does that work? \n\n\n\n – News  \n\n\n\n – Roundtable \n\n\n\n In person: \n\n\n\n     Institut canadien français\, 316 Dalhousie St Ottawa\, ON \n\n\n\n          Parking is available – call 613-241-3522 say you are there for the EVCO meeting to get the gate opened \n\n\n\n          Buzz at the door and we will let you in. \n\n\n\n          (Refreshments will be available at your discretion and cost) \n\n\n\n On-line: \n\n\n\n          Join the meeting now \n\n\n\n          Meeting ID: 230 373 169 891 \n\n\n\n          Passcode: SojEgQ
URL:https://evco.ca/event/august-monthly-meeting-in-person-and-virtual-2-2/
LOCATION:Environmental Summer Event\, Illinois
END:VEVENT
END:VCALENDAR