BEGIN:VCALENDAR
VERSION:2.0
PRODID:-//Electric Vehicle Council of Ottawa - ECPv6.15.20//NONSGML v1.0//EN
CALSCALE:GREGORIAN
METHOD:PUBLISH
X-WR-CALNAME:Electric Vehicle Council of Ottawa
X-ORIGINAL-URL:https://evco.ca
X-WR-CALDESC:Events for Electric Vehicle Council of Ottawa
REFRESH-INTERVAL;VALUE=DURATION:PT1H
X-Robots-Tag:noindex
X-PUBLISHED-TTL:PT1H
BEGIN:VTIMEZONE
TZID:America/Toronto
BEGIN:DAYLIGHT
TZOFFSETFROM:-0500
TZOFFSETTO:-0400
TZNAME:EDT
DTSTART:20230312T070000
END:DAYLIGHT
BEGIN:STANDARD
TZOFFSETFROM:-0400
TZOFFSETTO:-0500
TZNAME:EST
DTSTART:20231105T060000
END:STANDARD
BEGIN:DAYLIGHT
TZOFFSETFROM:-0500
TZOFFSETTO:-0400
TZNAME:EDT
DTSTART:20240310T070000
END:DAYLIGHT
BEGIN:STANDARD
TZOFFSETFROM:-0400
TZOFFSETTO:-0500
TZNAME:EST
DTSTART:20241103T060000
END:STANDARD
BEGIN:DAYLIGHT
TZOFFSETFROM:-0500
TZOFFSETTO:-0400
TZNAME:EDT
DTSTART:20250309T070000
END:DAYLIGHT
BEGIN:STANDARD
TZOFFSETFROM:-0400
TZOFFSETTO:-0500
TZNAME:EST
DTSTART:20251102T060000
END:STANDARD
END:VTIMEZONE
BEGIN:VEVENT
DTSTART;TZID=America/Toronto:20241005T100000
DTEND;TZID=America/Toronto:20241005T160000
DTSTAMP:20260419T182616
CREATED:20240906T155400Z
LAST-MODIFIED:20240906T155400Z
UID:3456-1728122400-1728144000@evco.ca
SUMMARY:SmartNet Sustainability Showcase & EV Exhibition- EV Test Drives & Rides\, and Advice
DESCRIPTION:Take a free test drive or ride in an electric vehicle with our friendly volunteers! \n\n\n\nEV Experience is offering sales-free electric vehicle test drives to raise awareness of the benefits of electric vehicles. Why? For us\, the biggest benefit is environmental as electric vehicles do not produce GHG emissions. However to drivers\, EVs also offer other benefits including saving money on maintenance costs and gas\, increased comfort and of course cleaner air. Plus\, who hasn’t dreamed of waking up to a full tank every day?   \n\n\n\nOur test drive events are a great opportunity to talk to experienced and knowledgeable EV enthusiasts and to ask them all your questions. And of course\, you will be able to drive or ride in an electric vehicle too!   \n\n\n\nVisit our EV Test Drive FAQ section for more information. \n\n\n\n\nBook your test drive or ride!
URL:https://evco.ca/event/smartnet-sustainability-showcase-ev-exhibition-ev-test-drives-rides-and-advice/
LOCATION:service-detail-7-3
END:VEVENT
END:VCALENDAR