BEGIN:VCALENDAR
VERSION:2.0
PRODID:-//Electric Vehicle Council of Ottawa - ECPv6.15.20//NONSGML v1.0//EN
CALSCALE:GREGORIAN
METHOD:PUBLISH
X-ORIGINAL-URL:https://evco.ca
X-WR-CALDESC:Events for Electric Vehicle Council of Ottawa
REFRESH-INTERVAL;VALUE=DURATION:PT1H
X-Robots-Tag:noindex
X-PUBLISHED-TTL:PT1H
BEGIN:VTIMEZONE
TZID:America/Toronto
BEGIN:DAYLIGHT
TZOFFSETFROM:-0500
TZOFFSETTO:-0400
TZNAME:EDT
DTSTART:20240310T070000
END:DAYLIGHT
BEGIN:STANDARD
TZOFFSETFROM:-0400
TZOFFSETTO:-0500
TZNAME:EST
DTSTART:20241103T060000
END:STANDARD
BEGIN:DAYLIGHT
TZOFFSETFROM:-0500
TZOFFSETTO:-0400
TZNAME:EDT
DTSTART:20250309T070000
END:DAYLIGHT
BEGIN:STANDARD
TZOFFSETFROM:-0400
TZOFFSETTO:-0500
TZNAME:EST
DTSTART:20251102T060000
END:STANDARD
BEGIN:DAYLIGHT
TZOFFSETFROM:-0500
TZOFFSETTO:-0400
TZNAME:EDT
DTSTART:20260308T070000
END:DAYLIGHT
BEGIN:STANDARD
TZOFFSETFROM:-0400
TZOFFSETTO:-0500
TZNAME:EST
DTSTART:20261101T060000
END:STANDARD
END:VTIMEZONE
BEGIN:VEVENT
DTSTART;TZID=America/Toronto:20250614T100000
DTEND;TZID=America/Toronto:20250614T120000
DTSTAMP:20260420T061851
CREATED:20250611T151204Z
LAST-MODIFIED:20250611T151246Z
UID:3820-1749895200-1749902400@evco.ca
SUMMARY:EVCO Kilowatts & Coffee
DESCRIPTION:Come hang out at our (almost) weekly casual Saturday morning coffee social event. Talk EVs\, all things environmental\, or anything else! Come check out some cool cars and enjoy a warm beverage. No EV required! \nAll are welcome!
URL:https://evco.ca/event/evco-kilowatts-coffee-62/
LOCATION:Second Cup\, 1715 Merivale Rd\, 1715 Merivale Rd\, Ottawa\, Ontario\, Canada
CATEGORIES:EVCO Kilowatts & Coffee
ATTACH;FMTTYPE=image/jpeg:https://evco.ca/wp-content/uploads/2023/01/Cars-and-Coffee-Cover-Photo.jpeg
END:VEVENT
BEGIN:VEVENT
DTSTART;TZID=America/Toronto:20250621T100000
DTEND;TZID=America/Toronto:20250621T120000
DTSTAMP:20260420T061851
CREATED:20250611T152137Z
LAST-MODIFIED:20250611T152137Z
UID:3822-1750500000-1750507200@evco.ca
SUMMARY:EVCO Kilowatts & Coffee
DESCRIPTION:Come hang out at our (almost) weekly casual Saturday morning coffee social event. Talk EVs\, all things environmental\, or anything else! Come check out some cool cars and enjoy a warm beverage. No EV required! \nAll are welcome!
URL:https://evco.ca/event/evco-kilowatts-coffee-64/
LOCATION:Equator Coffee – Kanata\, 5114 Kanata Ave\, Kanata\, Ontario\, Canada
CATEGORIES:EVCO Kilowatts & Coffee
ATTACH;FMTTYPE=image/jpeg:https://evco.ca/wp-content/uploads/2023/01/Cars-and-Coffee-Cover-Photo.jpeg
END:VEVENT
BEGIN:VEVENT
DTSTART;TZID=America/Toronto:20250628T100000
DTEND;TZID=America/Toronto:20250628T120000
DTSTAMP:20260420T061851
CREATED:20250611T152218Z
LAST-MODIFIED:20250626T153551Z
UID:3824-1751104800-1751112000@evco.ca
SUMMARY:EVCO Kilowatts & Coffee
DESCRIPTION:New location for this week! We’re going to test out the newly installed DCFC station (which currently offers free charging for the next two weeks!). There’s a Timmy’s onsite. Hopefully the weather will be okay but bring an umbrella just in case. \nCome hang out at our (almost) weekly casual Saturday morning coffee social event. Talk EVs\, all things environmental\, or anything else! Come check out some cool cars and enjoy a warm beverage. No EV required! \nAll are welcome!
URL:https://evco.ca/event/evco-kilowatts-coffee-65/
LOCATION:Pioneer – Tim Hortons\, 631 Industrial Avenue\, Ottawa\, ON\, K1G 5A5\, Canada
CATEGORIES:EVCO Kilowatts & Coffee
ATTACH;FMTTYPE=image/jpeg:https://evco.ca/wp-content/uploads/2023/01/Cars-and-Coffee-Cover-Photo.jpeg
END:VEVENT
END:VCALENDAR