BEGIN:VCALENDAR
VERSION:2.0
PRODID:-//Electric Vehicle Council of Ottawa - ECPv6.15.20//NONSGML v1.0//EN
CALSCALE:GREGORIAN
METHOD:PUBLISH
X-WR-CALNAME:Electric Vehicle Council of Ottawa
X-ORIGINAL-URL:https://evco.ca
X-WR-CALDESC:Events for Electric Vehicle Council of Ottawa
REFRESH-INTERVAL;VALUE=DURATION:PT1H
X-Robots-Tag:noindex
X-PUBLISHED-TTL:PT1H
BEGIN:VTIMEZONE
TZID:America/Toronto
BEGIN:DAYLIGHT
TZOFFSETFROM:-0500
TZOFFSETTO:-0400
TZNAME:EDT
DTSTART:20230312T070000
END:DAYLIGHT
BEGIN:STANDARD
TZOFFSETFROM:-0400
TZOFFSETTO:-0500
TZNAME:EST
DTSTART:20231105T060000
END:STANDARD
BEGIN:DAYLIGHT
TZOFFSETFROM:-0500
TZOFFSETTO:-0400
TZNAME:EDT
DTSTART:20240310T070000
END:DAYLIGHT
BEGIN:STANDARD
TZOFFSETFROM:-0400
TZOFFSETTO:-0500
TZNAME:EST
DTSTART:20241103T060000
END:STANDARD
BEGIN:DAYLIGHT
TZOFFSETFROM:-0500
TZOFFSETTO:-0400
TZNAME:EDT
DTSTART:20250309T070000
END:DAYLIGHT
BEGIN:STANDARD
TZOFFSETFROM:-0400
TZOFFSETTO:-0500
TZNAME:EST
DTSTART:20251102T060000
END:STANDARD
END:VTIMEZONE
BEGIN:VEVENT
DTSTART;TZID=America/Toronto:20240302T100000
DTEND;TZID=America/Toronto:20240302T120000
DTSTAMP:20260420T063345
CREATED:20240225T161338Z
LAST-MODIFIED:20240225T161338Z
UID:2578-1709373600-1709380800@evco.ca
SUMMARY:EVCO Kilowatts & Coffee
DESCRIPTION:Join us for our almost-weekly social event where we drink coffee and chat about EVs and everything else! \n  We hold this event most Saturdays\, 10 am to noon. \n  This Kilowatts & Coffee will be held at Equator Coffee\, 5114 Kanata Ave. \n  See you there!
URL:https://evco.ca/event/evco-kilowatts-coffee/
LOCATION:Equator Coffee – Kanata\, 5114 Kanata Ave\, Kanata\, Ontario\, Canada
CATEGORIES:EVCO Kilowatts & Coffee
END:VEVENT
BEGIN:VEVENT
DTSTART;TZID=America/Toronto:20240302T100000
DTEND;TZID=America/Toronto:20240302T120000
DTSTAMP:20260420T063345
CREATED:20240225T161338Z
LAST-MODIFIED:20240225T161338Z
UID:3417-1709373600-1709380800@evco.ca
SUMMARY:EVCO Kilowatts & Coffee
DESCRIPTION:Join us for our almost-weekly social event where we drink coffee and chat about EVs and everything else! \n  We hold this event most Saturdays\, 10 am to noon. \n  This Kilowatts & Coffee will be held at Equator Coffee\, 5114 Kanata Ave. \n  See you there!
URL:https://evco.ca/event/evco-kilowatts-coffee-6/
LOCATION:Equator Coffee – Kanata\, 5114 Kanata Ave\, Kanata\, Ontario\, Canada
CATEGORIES:EVCO Kilowatts & Coffee
END:VEVENT
BEGIN:VEVENT
DTSTART;TZID=America/Toronto:20240309T100000
DTEND;TZID=America/Toronto:20240309T120000
DTSTAMP:20260420T063345
CREATED:20240225T161815Z
LAST-MODIFIED:20240225T161815Z
UID:3152-1709978400-1709985600@evco.ca
SUMMARY:EVCO Kilowatts & Coffee
DESCRIPTION:Join us for our almost-weekly social event where we drink coffee and chat about EVs and everything else! \n  We hold this event most Saturdays\, 10 am to noon. \n  This Kilowatts & Coffee will be held at Ikea\, 2685 Iris Street. Meet upstairs in the 3rd floor Restaurant \n  See you there!
URL:https://evco.ca/event/evco-kilowatts-coffee-2/
LOCATION:IKEA Ottawa\, 2685 Iris Street\, Ottawa\, Ontario\, K2C 3S4\, Canada
CATEGORIES:EVCO Kilowatts & Coffee
END:VEVENT
BEGIN:VEVENT
DTSTART;TZID=America/Toronto:20240309T100000
DTEND;TZID=America/Toronto:20240309T120000
DTSTAMP:20260420T063345
CREATED:20240225T161815Z
LAST-MODIFIED:20240225T161815Z
UID:3418-1709978400-1709985600@evco.ca
SUMMARY:EVCO Kilowatts & Coffee
DESCRIPTION:Join us for our almost-weekly social event where we drink coffee and chat about EVs and everything else! \n  We hold this event most Saturdays\, 10 am to noon. \n  This Kilowatts & Coffee will be held at Ikea\, 2685 Iris Street. Meet upstairs in the 3rd floor Restaurant \n  See you there!
URL:https://evco.ca/event/evco-kilowatts-coffee-2-2/
LOCATION:IKEA Ottawa\, 2685 Iris Street\, Ottawa\, Ontario\, K2C 3S4\, Canada
CATEGORIES:EVCO Kilowatts & Coffee
END:VEVENT
BEGIN:VEVENT
DTSTART;TZID=America/Toronto:20240316T100000
DTEND;TZID=America/Toronto:20240316T120000
DTSTAMP:20260420T063345
CREATED:20240225T163231Z
LAST-MODIFIED:20240225T163231Z
UID:2585-1710583200-1710590400@evco.ca
SUMMARY:EVCO Kilowatts & Coffee
DESCRIPTION:Join us for our almost-weekly social event where we drink coffee and chat about EVs and everything else! \n  We hold this event most Saturdays\, 10 am to noon. \n  This Kilowatts & Coffee will be held at Starbucks\, Place d’Orléans food court (parking underground) \n  See you there!
URL:https://evco.ca/event/evco-kilowatts-coffee-3/
LOCATION:Starbucks Place d’Orléans\, 110 Place d'Orléans Dr\, Ottawa\, Ontario\, K1C 2L9\, Canada
CATEGORIES:EVCO Kilowatts & Coffee
END:VEVENT
BEGIN:VEVENT
DTSTART;TZID=America/Toronto:20240316T100000
DTEND;TZID=America/Toronto:20240316T120000
DTSTAMP:20260420T063345
CREATED:20240225T163231Z
LAST-MODIFIED:20240225T163231Z
UID:3419-1710583200-1710590400@evco.ca
SUMMARY:EVCO Kilowatts & Coffee
DESCRIPTION:Join us for our almost-weekly social event where we drink coffee and chat about EVs and everything else! \n  We hold this event most Saturdays\, 10 am to noon. \n  This Kilowatts & Coffee will be held at Starbucks\, Place d’Orléans food court (parking underground) \n  See you there!
URL:https://evco.ca/event/evco-kilowatts-coffee-3-2/
LOCATION:Starbucks Place d’Orléans\, 110 Place d'Orléans Dr\, Ottawa\, Ontario\, K1C 2L9\, Canada
CATEGORIES:EVCO Kilowatts & Coffee
END:VEVENT
BEGIN:VEVENT
DTSTART;TZID=America/Toronto:20240323T100000
DTEND;TZID=America/Toronto:20240323T120000
DTSTAMP:20260420T063345
CREATED:20240225T163739Z
LAST-MODIFIED:20240225T163739Z
UID:2587-1711188000-1711195200@evco.ca
SUMMARY:EVCO Kilowatts & Coffee
DESCRIPTION:Join us for our almost-weekly social event where we drink coffee and chat about EVs and everything else! \n  We hold this event most Saturdays\, 10 am to noon. \n  This Kilowatts & Coffee will be held at Second Cup\, 1715 Merivale Rd\, Nepean \n  See you there!
URL:https://evco.ca/event/evco-kilowatts-coffee-4/
LOCATION:Second Cup\, 1715 Merivale Rd\, 1715 Merivale Rd\, Ottawa\, Ontario\, Canada
CATEGORIES:EVCO Kilowatts & Coffee
END:VEVENT
BEGIN:VEVENT
DTSTART;TZID=America/Toronto:20240323T100000
DTEND;TZID=America/Toronto:20240323T120000
DTSTAMP:20260420T063345
CREATED:20240225T163739Z
LAST-MODIFIED:20240225T163739Z
UID:3420-1711188000-1711195200@evco.ca
SUMMARY:EVCO Kilowatts & Coffee
DESCRIPTION:Join us for our almost-weekly social event where we drink coffee and chat about EVs and everything else! \n  We hold this event most Saturdays\, 10 am to noon. \n  This Kilowatts & Coffee will be held at Second Cup\, 1715 Merivale Rd\, Nepean \n  See you there!
URL:https://evco.ca/event/evco-kilowatts-coffee-4-2/
LOCATION:Second Cup\, 1715 Merivale Rd\, 1715 Merivale Rd\, Ottawa\, Ontario\, Canada
CATEGORIES:EVCO Kilowatts & Coffee
END:VEVENT
BEGIN:VEVENT
DTSTART;TZID=America/Toronto:20240325T193000
DTEND;TZID=America/Toronto:20240325T220000
DTSTAMP:20260420T063345
CREATED:20240225T164843Z
LAST-MODIFIED:20240225T164843Z
UID:2591-1711395000-1711404000@evco.ca
SUMMARY:March Monthly Meeting - In Person and Virtual
DESCRIPTION:Hope you can make it to our monthly meeting.  We strongly encourage you to join us in person. For those who can’t get there in person\, you will still have the option to reach us on-line.  Recordings of our past meeting can be found at EVCO – YouTube \n Agenda: \n – Past and Future events \n – Beginner’s Guide to Fighting Climate Change \n – 2023 – year in review \n – On the Road to Full Self Driving \n – News  \n – Roundtable \n In person: \n     Institut canadien français\, 316 Dalhousie St Ottawa\, ON \n          Parking is available – call 613-241-3522 say you are there for the EVCO meeting to get the gate opened \n          Buzz at the door and we will let you in. \n          (Refreshments will be available at your discretion and cost) \n On-line: \n                        Click here to join the meeting 
URL:https://evco.ca/event/march-monthly-meeting-in-person-and-virtual-2/
LOCATION:Environmental Summer Event\, Illinois
CATEGORIES:Monthly Meetings
END:VEVENT
BEGIN:VEVENT
DTSTART;TZID=America/Toronto:20240325T193000
DTEND;TZID=America/Toronto:20240325T220000
DTSTAMP:20260420T063345
CREATED:20240225T164843Z
LAST-MODIFIED:20240225T164843Z
UID:3422-1711395000-1711404000@evco.ca
SUMMARY:March Monthly Meeting - In Person and Virtual
DESCRIPTION:Hope you can make it to our monthly meeting.  We strongly encourage you to join us in person. For those who can’t get there in person\, you will still have the option to reach us on-line.  Recordings of our past meeting can be found at EVCO – YouTube \n Agenda: \n – Past and Future events \n – Beginner’s Guide to Fighting Climate Change \n – 2023 – year in review \n – On the Road to Full Self Driving \n – News  \n – Roundtable \n In person: \n     Institut canadien français\, 316 Dalhousie St Ottawa\, ON \n          Parking is available – call 613-241-3522 say you are there for the EVCO meeting to get the gate opened \n          Buzz at the door and we will let you in. \n          (Refreshments will be available at your discretion and cost) \n On-line: \n                        Click here to join the meeting 
URL:https://evco.ca/event/march-monthly-meeting-in-person-and-virtual-2-2/
LOCATION:Environmental Summer Event\, Illinois
CATEGORIES:Monthly Meetings
END:VEVENT
BEGIN:VEVENT
DTSTART;TZID=America/Toronto:20240330T100000
DTEND;TZID=America/Toronto:20240330T120000
DTSTAMP:20260420T063345
CREATED:20240225T164100Z
LAST-MODIFIED:20240225T164100Z
UID:2589-1711792800-1711800000@evco.ca
SUMMARY:EVCO Kilowatts & Coffee
DESCRIPTION:Join us for our almost-weekly social event where we drink coffee and chat about EVs and everything else! \n  We hold this event most Saturdays\, 10 am to noon. \n  This Kilowatts & Coffee will be held at Ten Toes\, 1109 Cyrville Rd. \n  See you there!
URL:https://evco.ca/event/evco-kilowatts-coffee-32/
LOCATION:Ten Toes\, 1109 Cyrville Rd\, Ottawa\, Ontario\, Canada
CATEGORIES:EVCO Kilowatts & Coffee
END:VEVENT
BEGIN:VEVENT
DTSTART;TZID=America/Toronto:20240330T100000
DTEND;TZID=America/Toronto:20240330T120000
DTSTAMP:20260420T063345
CREATED:20240225T164100Z
LAST-MODIFIED:20240225T164100Z
UID:3421-1711792800-1711800000@evco.ca
SUMMARY:EVCO Kilowatts & Coffee
DESCRIPTION:Join us for our almost-weekly social event where we drink coffee and chat about EVs and everything else! \n  We hold this event most Saturdays\, 10 am to noon. \n  This Kilowatts & Coffee will be held at Ten Toes\, 1109 Cyrville Rd. \n  See you there!
URL:https://evco.ca/event/evco-kilowatts-coffee-32-2/
LOCATION:Ten Toes\, 1109 Cyrville Rd\, Ottawa\, Ontario\, Canada
CATEGORIES:EVCO Kilowatts & Coffee
END:VEVENT
END:VCALENDAR