BEGIN:VCALENDAR
VERSION:2.0
PRODID:-//Electric Vehicle Council of Ottawa - ECPv6.15.20//NONSGML v1.0//EN
CALSCALE:GREGORIAN
METHOD:PUBLISH
X-ORIGINAL-URL:https://evco.ca
X-WR-CALDESC:Events for Electric Vehicle Council of Ottawa
REFRESH-INTERVAL;VALUE=DURATION:PT1H
X-Robots-Tag:noindex
X-PUBLISHED-TTL:PT1H
BEGIN:VTIMEZONE
TZID:America/Toronto
BEGIN:DAYLIGHT
TZOFFSETFROM:-0500
TZOFFSETTO:-0400
TZNAME:EDT
DTSTART:20230312T070000
END:DAYLIGHT
BEGIN:STANDARD
TZOFFSETFROM:-0400
TZOFFSETTO:-0500
TZNAME:EST
DTSTART:20231105T060000
END:STANDARD
BEGIN:DAYLIGHT
TZOFFSETFROM:-0500
TZOFFSETTO:-0400
TZNAME:EDT
DTSTART:20240310T070000
END:DAYLIGHT
BEGIN:STANDARD
TZOFFSETFROM:-0400
TZOFFSETTO:-0500
TZNAME:EST
DTSTART:20241103T060000
END:STANDARD
BEGIN:DAYLIGHT
TZOFFSETFROM:-0500
TZOFFSETTO:-0400
TZNAME:EDT
DTSTART:20250309T070000
END:DAYLIGHT
BEGIN:STANDARD
TZOFFSETFROM:-0400
TZOFFSETTO:-0500
TZNAME:EST
DTSTART:20251102T060000
END:STANDARD
END:VTIMEZONE
BEGIN:VEVENT
DTSTART;TZID=America/Toronto:20240505T100000
DTEND;TZID=America/Toronto:20240505T150000
DTSTAMP:20260420T050634
CREATED:20240322T215522Z
LAST-MODIFIED:20240322T215522Z
UID:3154-1714903200-1714921200@evco.ca
SUMMARY:Kemptville Sustainability Fair & EV Show
DESCRIPTION:This year again EV Experience by EVCO will be at the Kemptville Sustainability Fair and EV Show.  We will be providing test drives with a variety of EV models.  To see the list of models available and to pre-book a test drive\, please go to EV Experience by EVCO.
URL:https://evco.ca/event/kemptville-sustainability-fair-ev-show/
LOCATION:North Grenville Municipal Centre\, 285 County Road 44\,\, Kemptville\, Ontario\, K0G 1J0\, Canada
CATEGORIES:Expo
END:VEVENT
BEGIN:VEVENT
DTSTART;TZID=America/Toronto:20240505T100000
DTEND;TZID=America/Toronto:20240505T150000
DTSTAMP:20260420T050634
CREATED:20240322T215522Z
LAST-MODIFIED:20240322T215522Z
UID:3428-1714903200-1714921200@evco.ca
SUMMARY:Kemptville Sustainability Fair & EV Show
DESCRIPTION:This year again EV Experience by EVCO will be at the Kemptville Sustainability Fair and EV Show.  We will be providing test drives with a variety of EV models.  To see the list of models available and to pre-book a test drive\, please go to EV Experience by EVCO.
URL:https://evco.ca/event/kemptville-sustainability-fair-ev-show-2/
LOCATION:North Grenville Municipal Centre\, 285 County Road 44\,\, Kemptville\, Ontario\, K0G 1J0\, Canada
CATEGORIES:Expo
END:VEVENT
BEGIN:VEVENT
DTSTART;TZID=America/Toronto:20240511T100000
DTEND;TZID=America/Toronto:20240511T120000
DTSTAMP:20260420T050634
CREATED:20240506T131249Z
LAST-MODIFIED:20240506T131249Z
UID:3433-1715421600-1715428800@evco.ca
SUMMARY:EVCO Kilowatts & Coffee
DESCRIPTION:Come hang out at our (almost) weekly casual Saturday morning coffee social event. Talk EVs\, all things environmental\, or anything else! Come check out some cool cars and enjoy a warm beverage. No EV required! \nAll are welcome!
URL:https://evco.ca/event/evco-kilowatts-coffee-33-2/
LOCATION:content-image-landscape2a
CATEGORIES:EVCO Kilowatts & Coffee
END:VEVENT
BEGIN:VEVENT
DTSTART;TZID=America/Toronto:20240511T100000
DTEND;TZID=America/Toronto:20240511T120000
DTSTAMP:20260420T050634
CREATED:20240506T131249Z
LAST-MODIFIED:20240506T131249Z
UID:3158-1715421600-1715428800@evco.ca
SUMMARY:EVCO Kilowatts & Coffee
DESCRIPTION:Come hang out at our (almost) weekly casual Saturday morning coffee social event. Talk EVs\, all things environmental\, or anything else! Come check out some cool cars and enjoy a warm beverage. No EV required! \nAll are welcome!
URL:https://evco.ca/event/evco-kilowatts-coffee-33/
LOCATION:content-image-landscape2a
CATEGORIES:EVCO Kilowatts & Coffee
END:VEVENT
BEGIN:VEVENT
DTSTART;TZID=America/Toronto:20240518T100000
DTEND;TZID=America/Toronto:20240518T120000
DTSTAMP:20260420T050634
CREATED:20240506T131639Z
LAST-MODIFIED:20240506T131639Z
UID:3159-1716026400-1716033600@evco.ca
SUMMARY:EVCO Kilowatts & Coffee
DESCRIPTION:Come hang out at our (almost) weekly casual Saturday morning coffee social event. Talk EVs\, all things environmental\, or anything else! Come check out some cool cars and enjoy a warm beverage. No EV required! \nAll are welcome!
URL:https://evco.ca/event/evco-kilowatts-coffee-34/
LOCATION:Drip House\, 121 Parkdale Ave.\, Ottawa\, Ontario\, Canada
CATEGORIES:EVCO Kilowatts & Coffee
END:VEVENT
BEGIN:VEVENT
DTSTART;TZID=America/Toronto:20240518T100000
DTEND;TZID=America/Toronto:20240518T120000
DTSTAMP:20260420T050634
CREATED:20240506T131639Z
LAST-MODIFIED:20240506T131639Z
UID:3434-1716026400-1716033600@evco.ca
SUMMARY:EVCO Kilowatts & Coffee
DESCRIPTION:Come hang out at our (almost) weekly casual Saturday morning coffee social event. Talk EVs\, all things environmental\, or anything else! Come check out some cool cars and enjoy a warm beverage. No EV required! \nAll are welcome!
URL:https://evco.ca/event/evco-kilowatts-coffee-34-2/
LOCATION:Drip House\, 121 Parkdale Ave.\, Ottawa\, Ontario\, Canada
CATEGORIES:EVCO Kilowatts & Coffee
END:VEVENT
BEGIN:VEVENT
DTSTART;TZID=America/Toronto:20240525T100000
DTEND;TZID=America/Toronto:20240525T120000
DTSTAMP:20260420T050634
CREATED:20240506T131859Z
LAST-MODIFIED:20240506T131859Z
UID:3160-1716631200-1716638400@evco.ca
SUMMARY:EVCO Kilowatts & Coffee
DESCRIPTION:Come hang out at our (almost) weekly casual Saturday morning coffee social event. Talk EVs\, all things environmental\, or anything else! Come check out some cool cars and enjoy a warm beverage. No EV required!\n\nAll are welcome!\n\n\n\n 
URL:https://evco.ca/event/evco-kilowatts-coffee-35/
LOCATION:Honey Coffee Bar\, 1564 Stittsville Main\, Stittsville\, ON\, K2S 1P1\, Canada
CATEGORIES:EVCO Kilowatts & Coffee
END:VEVENT
BEGIN:VEVENT
DTSTART;TZID=America/Toronto:20240525T100000
DTEND;TZID=America/Toronto:20240525T120000
DTSTAMP:20260420T050634
CREATED:20240506T131859Z
LAST-MODIFIED:20240506T131859Z
UID:3435-1716631200-1716638400@evco.ca
SUMMARY:EVCO Kilowatts & Coffee
DESCRIPTION:Come hang out at our (almost) weekly casual Saturday morning coffee social event. Talk EVs\, all things environmental\, or anything else! Come check out some cool cars and enjoy a warm beverage. No EV required!\n\nAll are welcome!\n\n\n\n 
URL:https://evco.ca/event/evco-kilowatts-coffee-35-2/
LOCATION:Honey Coffee Bar\, 1564 Stittsville Main\, Stittsville\, ON\, K2S 1P1\, Canada
CATEGORIES:EVCO Kilowatts & Coffee
END:VEVENT
BEGIN:VEVENT
DTSTART;TZID=America/Toronto:20240527T193000
DTEND;TZID=America/Toronto:20240527T220000
DTSTAMP:20260420T050634
CREATED:20240422T182037Z
LAST-MODIFIED:20240422T182037Z
UID:3432-1716838200-1716847200@evco.ca
SUMMARY:May Monthly Meeting - In Person and Virtual
DESCRIPTION:Hope you can make it to our monthly meeting.  We strongly encourage you to join us in person. For those who can’t get there in person\, you will still have the option to reach us on-line.  Recordings of our past meeting can be found at EVCO – YouTube \n Agenda: \n – Past and Future events \n – Report on Lawrence’s Long Road Trip in Tesla Model 3 \n – EVs in Europe – Trip report from Raymond’s UK vacation \n – News  \n – Roundtable \n In person: \n     Institut canadien français\, 316 Dalhousie St Ottawa\, ON \n          Parking is available – call 613-241-3522 say you are there for the EVCO meeting to get the gate opened \n          Buzz at the door and we will let you in. \n          (Refreshments will be available at your discretion and cost) \n On-line: \n     Join the meeting now \n     Meeting ID: 251 668 281 667 \n     Passcode: QqnYzD
URL:https://evco.ca/event/may-monthly-meeting-in-person-and-virtual-3/
LOCATION:Environmental Summer Event\, Illinois
CATEGORIES:Monthly Meetings
END:VEVENT
BEGIN:VEVENT
DTSTART;TZID=America/Toronto:20240527T193000
DTEND;TZID=America/Toronto:20240527T220000
DTSTAMP:20260420T050634
CREATED:20240422T182037Z
LAST-MODIFIED:20240422T182037Z
UID:3157-1716838200-1716847200@evco.ca
SUMMARY:May Monthly Meeting - In Person and Virtual
DESCRIPTION:Hope you can make it to our monthly meeting.  We strongly encourage you to join us in person. For those who can’t get there in person\, you will still have the option to reach us on-line.  Recordings of our past meeting can be found at EVCO – YouTube \n Agenda: \n – Past and Future events \n – TBD \n – TBD \n – TBD \n – News  \n – Roundtable \n In person: \n     Institut canadien français\, 316 Dalhousie St Ottawa\, ON \n          Parking is available – call 613-241-3522 say you are there for the EVCO meeting to get the gate opened \n          Buzz at the door and we will let you in. \n          (Refreshments will be available at your discretion and cost) \n On-line: \n     Join the meeting now \n     Meeting ID: 251 668 281 667 \n     Passcode: QqnYzD
URL:https://evco.ca/event/may-monthly-meeting-in-person-and-virtual/
LOCATION:Environmental Summer Event\, Illinois
CATEGORIES:Monthly Meetings
END:VEVENT
BEGIN:VEVENT
DTSTART;TZID=America/Toronto:20240529T183000
DTEND;TZID=America/Toronto:20240529T203000
DTSTAMP:20260420T050634
CREATED:20240331T212118Z
LAST-MODIFIED:20240331T212118Z
UID:3155-1717007400-1717014600@evco.ca
SUMMARY:OREC and EVCO - Patagonia
DESCRIPTION:Join us for an exciting evening with OREC (Ottawa Renewable Energy Cooperative).  There will be a movie and great discussions about solutions to climate change and how you can get involved. \nThe event is at the Pantagonia store at 119 York St\, Ottawa \n\n\n 
URL:https://evco.ca/event/orec-and-evco-patagonia/
LOCATION:event-detail-1
END:VEVENT
BEGIN:VEVENT
DTSTART;TZID=America/Toronto:20240529T183000
DTEND;TZID=America/Toronto:20240529T203000
DTSTAMP:20260420T050634
CREATED:20240331T212118Z
LAST-MODIFIED:20240331T212118Z
UID:3430-1717007400-1717014600@evco.ca
SUMMARY:OREC and EVCO - Patagonia
DESCRIPTION:Join us for an exciting evening with OREC (Ottawa Renewable Energy Cooperative).  There will be a movie and great discussions about solutions to climate change and how you can get involved. \nThe event is at the Pantagonia store at 119 York St\, Ottawa \n\n\n 
URL:https://evco.ca/event/orec-and-evco-patagonia-2/
LOCATION:event-detail-1
END:VEVENT
BEGIN:VEVENT
DTSTART;TZID=America/Toronto:20240531T160000
DTEND;TZID=America/Toronto:20240531T190000
DTSTAMP:20260420T050634
CREATED:20240514T132846Z
LAST-MODIFIED:20240514T132846Z
UID:3161-1717171200-1717182000@evco.ca
SUMMARY:EV Expérience VÉ - Blackburn Fun Fair and Test Drives - Friday\, May 31
DESCRIPTION:Come join us at the Blackburn Fun Fair at the Lois Kemp arena in Blackburn to see EVs and try one out.
URL:https://evco.ca/event/ev-experience-ve-blackburn-fun-fair-and-test-drives-friday-may-31/
LOCATION:Lois Kemp (Blackburn) Arena\, 200 Glen Park Dr\, Ottawa\, Ontario\, Canada
CATEGORIES:Expo
END:VEVENT
BEGIN:VEVENT
DTSTART;TZID=America/Toronto:20240531T160000
DTEND;TZID=America/Toronto:20240531T190000
DTSTAMP:20260420T050634
CREATED:20240514T132846Z
LAST-MODIFIED:20240514T132846Z
UID:3436-1717171200-1717182000@evco.ca
SUMMARY:EV Expérience VÉ - Blackburn Fun Fair and Test Drives - Friday\, May 31
DESCRIPTION:Come join us at the Blackburn Fun Fair at the Lois Kemp arena in Blackburn to see EVs and try one out.
URL:https://evco.ca/event/ev-experience-ve-blackburn-fun-fair-and-test-drives-friday-may-31-2/
LOCATION:Lois Kemp (Blackburn) Arena\, 200 Glen Park Dr\, Ottawa\, Ontario\, Canada
CATEGORIES:Expo
END:VEVENT
END:VCALENDAR