BEGIN:VCALENDAR
VERSION:2.0
PRODID:-//Electric Vehicle Council of Ottawa - ECPv6.15.20//NONSGML v1.0//EN
CALSCALE:GREGORIAN
METHOD:PUBLISH
X-ORIGINAL-URL:https://evco.ca
X-WR-CALDESC:Events for Electric Vehicle Council of Ottawa
REFRESH-INTERVAL;VALUE=DURATION:PT1H
X-Robots-Tag:noindex
X-PUBLISHED-TTL:PT1H
BEGIN:VTIMEZONE
TZID:America/Toronto
BEGIN:DAYLIGHT
TZOFFSETFROM:-0500
TZOFFSETTO:-0400
TZNAME:EDT
DTSTART:20230312T070000
END:DAYLIGHT
BEGIN:STANDARD
TZOFFSETFROM:-0400
TZOFFSETTO:-0500
TZNAME:EST
DTSTART:20231105T060000
END:STANDARD
BEGIN:DAYLIGHT
TZOFFSETFROM:-0500
TZOFFSETTO:-0400
TZNAME:EDT
DTSTART:20240310T070000
END:DAYLIGHT
BEGIN:STANDARD
TZOFFSETFROM:-0400
TZOFFSETTO:-0500
TZNAME:EST
DTSTART:20241103T060000
END:STANDARD
BEGIN:DAYLIGHT
TZOFFSETFROM:-0500
TZOFFSETTO:-0400
TZNAME:EDT
DTSTART:20250309T070000
END:DAYLIGHT
BEGIN:STANDARD
TZOFFSETFROM:-0400
TZOFFSETTO:-0500
TZNAME:EST
DTSTART:20251102T060000
END:STANDARD
END:VTIMEZONE
BEGIN:VEVENT
DTSTART;TZID=America/Toronto:20240904T170000
DTEND;TZID=America/Toronto:20240904T200000
DTSTAMP:20260419T165244
CREATED:20240801T221524Z
LAST-MODIFIED:20240801T221524Z
UID:3455-1725469200-1725480000@evco.ca
SUMMARY:Tanglewood Community Centre EV Showcase
DESCRIPTION:Have questions about EVs? Would like to see a variety of EV’s with an experienced EV owner there to show them to you without any pressure from a salesperson? Have questions about EV ownership or home charging? This event is for you! \n\n\n\nAt this event EVCO will have a variety of EV models on display along with their owners who will be happy to answer any question you have on any of the many EV model available in Canada.
URL:https://evco.ca/event/tanglewood-community-centre-ev-showcase/
LOCATION:ON
END:VEVENT
BEGIN:VEVENT
DTSTART;TZID=America/Toronto:20240921T100000
DTEND;TZID=America/Toronto:20240921T110000
DTSTAMP:20260419T165244
CREATED:20240918T163555Z
LAST-MODIFIED:20240918T163555Z
UID:3460-1726912800-1726916400@evco.ca
SUMMARY:EVCO Kilowatts & Coffee (and Climate March)
DESCRIPTION:Special Edition: Join us after coffee for the 2024 Ottawa-Gatineau Climate March!\n\n\n\nCome hang out at our (almost) weekly casual Saturday morning coffee social event. Talk EVs\, all things environmental\, or anything else! Come check out some cool cars and enjoy a warm beverage. No EV required! \n\n\n\nPaid parking with EV chargers is available at World Exchange Plaza\, or street parking. \n\n\n\nAt 11:00am we will walk over to Ottawa City Hall to take part in the 2024 Ottawa-Gatineau Climate March.
URL:https://evco.ca/event/evco-kilowatts-coffee-and-climate-march/
LOCATION:Le Moulin De Provence\, 30 Metcalfe St.\, Ottawa\, Ontario\, Canada
END:VEVENT
BEGIN:VEVENT
DTSTART;TZID=America/Toronto:20240930T193000
DTEND;TZID=America/Toronto:20240930T220000
DTSTAMP:20260419T165244
CREATED:20240916T185329Z
LAST-MODIFIED:20240916T185329Z
UID:2880-1727724600-1727733600@evco.ca
SUMMARY:September Monthly Meeting - In Person and Virtual
DESCRIPTION:Hope you can make it to our monthly meeting.  We strongly encourage you to join us in person. For those who can’t get there in person\, you will still have the option to reach us on-line.  Recordings of our past meeting can be found at EVCO – YouTube \n\n\n\n Agenda: \n\n\n\n – Past and Future events \n\n\n\n – Electric Mobility Canada – Conference Report \n\n\n\n – TBD \n\n\n\n – TBD \n\n\n\n – News  \n\n\n\n – Roundtable \n\n\n\n In person: \n\n\n\n     Institut canadien français\, 316 Dalhousie St Ottawa\, ON \n\n\n\n          Parking is available – call 613-241-3522 say you are there for the EVCO meeting to get the gate opened \n\n\n\n          Buzz at the door and we will let you in. \n\n\n\n          (Refreshments will be available at your discretion and cost) \n\n\n\n On-line: \n\n\n\n     Join the meeting now \n\n\n\n     Meeting ID: 233 279 742 135 \n\n\n\n     Passcode: 5qfefG
URL:https://evco.ca/event/september-monthly-meeting-in-person-and-virtual/
LOCATION:Environmental Summer Event\, Illinois
END:VEVENT
END:VCALENDAR